BEGIN:VCALENDAR
VERSION:2.0
CALSCALE:GREGORIAN
PRODID:-//Diputació de Barcelona//DibaCMS//EN
BEGIN:VEVENT
UID:1848
DTSTAMP:20260419T145733
DTSTART:20200202T000000
DTEND:20200202T000000
SUMMARY:Montserrat Skyrace
LOCATION:
METHOD:PUBLISH
X-WR-CALNAME:monistrolm@monistroldemontserrat.cat
X-WR-TIMEZONE:Europe/Madrid
DESCRIPTION:
URI:https://www.monistroldemontserrat.cat/sobras/govern/agenda-politica/montserrat-skyrace.html
CLASS:PUBLIC
END:VEVENT
END:VCALENDAR
