BEGIN:VCALENDAR
VERSION:2.0
CALSCALE:GREGORIAN
PRODID:-//Diputació de Barcelona//DibaCMS//EN
BEGIN:VEVENT
UID:2077
DTSTAMP:20260419T171222
DTSTART:20210402T103000
DTEND:20210402T120000
SUMMARY:Via Crucis
LOCATION:C/ Montserrat, 24 08691 Monistrol de Montserrat
METHOD:PUBLISH
X-WR-CALNAME:monistrolm@monistroldemontserrat.cat
X-WR-TIMEZONE:Europe/Madrid
DESCRIPTION:DIVENDRES SANT

URI:https://www.monistroldemontserrat.cat//continguts//via-crucis.html
CLASS:PUBLIC
END:VEVENT
END:VCALENDAR
