BEGIN:VCALENDAR
VERSION:2.0
CALSCALE:GREGORIAN
PRODID:-//Diputació de Barcelona//DibaCMS//EN
BEGIN:VEVENT
UID:2083
DTSTAMP:20260419T154845
DTSTART:20210401T183000
DTEND:20210401T200000
SUMMARY:Celebració del Sant Sopar del Senyor 
LOCATION:C/ Montserrat, 24 08691 Monistrol de Montserrat
METHOD:PUBLISH
X-WR-CALNAME:monistrolm@monistroldemontserrat.cat
X-WR-TIMEZONE:Europe/Madrid
DESCRIPTION:El Dijous Sant, a les 18:30 h, es farà la Celebració del Sant Sopar del Senyor.

En tancar el monument es farà una pregària al Santíssim

URI:https://www.monistroldemontserrat.cat//continguts//celebracio-del-sant-sopar-del-senyor-.html
CLASS:PUBLIC
END:VEVENT
END:VCALENDAR
