BEGIN:VCALENDAR
VERSION:2.0
CALSCALE:GREGORIAN
PRODID:-//Diputació de Barcelona//DibaCMS//EN
BEGIN:VEVENT
UID:2084
DTSTAMP:20260421T121210
DTSTART:20210401T200000
DTEND:20210401T220000
SUMMARY:Cantada de la Passió
LOCATION:C/ Montserrat, 24 08691 Monistrol de Montserrat
METHOD:PUBLISH
X-WR-CALNAME:monistrolm@monistroldemontserrat.cat
X-WR-TIMEZONE:Europe/Madrid
DESCRIPTION:El Dijous Sant, a les 20:00 h, tindrà lloc la Cantada de la Passió, primer a la Plaça de l'Església i tot seguit, a la Plaça del Bo-Bo.

Organitza: Orfeó Monistrolenc

URI:https://www.monistroldemontserrat.cat//continguts//cantada-de-la-passio.html
CLASS:PUBLIC
END:VEVENT
END:VCALENDAR
