BEGIN:VCALENDAR
VERSION:2.0
CALSCALE:GREGORIAN
PRODID:-//Diputació de Barcelona//DibaCMS//EN
BEGIN:VEVENT
UID:2089
DTSTAMP:20260421T123030
DTSTART:20210326T153000
DTEND:20210326T173000
SUMMARY:Etapa 5 de la Volta Ciclista a Catalunya: de la Pobla de Segur a Manresa, pujant a Montserrat
LOCATION:
METHOD:PUBLISH
X-WR-CALNAME:monistrolm@monistroldemontserrat.cat
X-WR-TIMEZONE:Europe/Madrid
DESCRIPTION:L’horari de pas previst pel 26 de març (5a. etapa) és a les 16:02 h implicant afectacions del trànsit a la C-55 durant aproximadament una hora.

URI:https://www.monistroldemontserrat.cat//continguts//etapa-5-de-la-volta-ciclista-a-catalunya-de-la-pobla-de-segur-a-manresa-pujant-a-montserrat.html
CLASS:PUBLIC
END:VEVENT
END:VCALENDAR
