BEGIN:VCALENDAR
VERSION:2.0
CALSCALE:GREGORIAN
PRODID:-//Diputació de Barcelona//DibaCMS//EN
BEGIN:VEVENT
UID:2091
DTSTAMP:20260419T152921
DTSTART:20210324T120000
DTEND:20210324T140000
SUMMARY:Etapa 3 de la Volta Ciclista a Catalunya: del Canal Olímpic de Catalunya / Vallter 2000 a Setcases (Vall Camprodon) 
LOCATION:
METHOD:PUBLISH
X-WR-CALNAME:monistrolm@monistroldemontserrat.cat
X-WR-TIMEZONE:Europe/Madrid
DESCRIPTION:L’horari de pas previst pel 24 de març (3a. etapa) és a les 12:48 h implicant afectacions del trànsit a la C-55 durant aproximadament una hora.

URI:https://www.monistroldemontserrat.cat//continguts//etapa-3-de-la-volta-ciclista-a-catalunya-del-canal-olimpic-de-catalunya--vallter-2000-a-setcases-vall-camprodon-.html
CLASS:PUBLIC
END:VEVENT
END:VCALENDAR
