BEGIN:VCALENDAR
VERSION:2.0
CALSCALE:GREGORIAN
PRODID:-//Diputació de Barcelona//DibaCMS//EN
BEGIN:VEVENT
UID:2093
DTSTAMP:20260419T160130
DTSTART:20210910T190000
DTEND:20210911T000000
SUMMARY:Actes commemoratius de la Diada de Catalunya 2021
LOCATION:Plaça Onze de Setembre 
METHOD:PUBLISH
X-WR-CALNAME:monistrolm@monistroldemontserrat.cat
X-WR-TIMEZONE:Europe/Madrid
DESCRIPTION:
URI:https://www.monistroldemontserrat.cat/sobras/govern/agenda-politica/actes-commemoratius-de-la-diada-de-catalunya-2021.html
CLASS:PUBLIC
END:VEVENT
END:VCALENDAR
