BEGIN:VCALENDAR
VERSION:2.0
CALSCALE:GREGORIAN
PRODID:-//Diputació de Barcelona//DibaCMS//EN
BEGIN:VEVENT
UID:2096
DTSTAMP:20260419T172040
DTSTART:20210401T000000
DTEND:20210415T000000
SUMMARY:Concurs de Narrativa Infantil i Juvenil Sant Jordi 2021
LOCATION:
METHOD:PUBLISH
X-WR-CALNAME:monistrolm@monistroldemontserrat.cat
X-WR-TIMEZONE:Europe/Madrid
DESCRIPTION:
URI:https://www.monistroldemontserrat.cat//continguts//concurs-de-narrativa-infantil-i-juvenil-sant-jordi-2021.html
CLASS:PUBLIC
END:VEVENT
END:VCALENDAR
