BEGIN:VCALENDAR
VERSION:2.0
CALSCALE:GREGORIAN
PRODID:-//Diputació de Barcelona//DibaCMS//EN
BEGIN:VEVENT
UID:2149
DTSTAMP:20260419T135745
DTSTART:20210603T170000
DTEND:20210606T223000
SUMMARY:Corpus Christi 2021
LOCATION:C/ Montserrat, 24 08691 Monistrol de Montserrat
METHOD:PUBLISH
X-WR-CALNAME:monistrolm@monistroldemontserrat.cat
X-WR-TIMEZONE:Europe/Madrid
DESCRIPTION:Agenda d'actes de la celebració del Corpus Christi a Monistrol de Montserrat, del 3 al 6 de juny de 2021

URI:https://www.monistroldemontserrat.cat//continguts//corpus-christi-2021.html
CLASS:PUBLIC
END:VEVENT
END:VCALENDAR
