BEGIN:VCALENDAR
VERSION:2.0
CALSCALE:GREGORIAN
PRODID:-//Diputació de Barcelona//DibaCMS//EN
BEGIN:VEVENT
UID:2207
DTSTAMP:20260419T152224
DTSTART:20210701T200000
DTEND:20210701T210000
SUMMARY:Xerrada de Pep Llenas: El període d'adaptació. Un procés a tenir en compte. 
LOCATION:C/ Sant Joan, 1 08691 Monistrol de Montserrat
METHOD:PUBLISH
X-WR-CALNAME:monistrolm@monistroldemontserrat.cat
X-WR-TIMEZONE:Europe/Madrid
DESCRIPTION:
URI:https://www.monistroldemontserrat.cat/sobras/govern/agenda-politica/2207-xerrada-de-pep-llenas-el-periode-dadaptacio.html
CLASS:PUBLIC
END:VEVENT
END:VCALENDAR
