BEGIN:VCALENDAR
VERSION:2.0
CALSCALE:GREGORIAN
PRODID:-//Diputació de Barcelona//DibaCMS//EN
BEGIN:VEVENT
UID:2209
DTSTAMP:20260419T135645
DTSTART:20210723T090000
DTEND:20210723T140000
SUMMARY:Cloenda de l'acció formativa "L'operari especialista del futur" 
LOCATION:
METHOD:PUBLISH
X-WR-CALNAME:monistrolm@monistroldemontserrat.cat
X-WR-TIMEZONE:Europe/Madrid
DESCRIPTION:
URI:https://www.monistroldemontserrat.cat//continguts//cloenda-de-laccio-formativa-loperari-especialista-del-futur-.html
CLASS:PUBLIC
END:VEVENT
END:VCALENDAR
