BEGIN:VCALENDAR
VERSION:2.0
CALSCALE:GREGORIAN
PRODID:-//Diputació de Barcelona//DibaCMS//EN
BEGIN:VEVENT
UID:2210
DTSTAMP:20260419T140128
DTSTART:20210710T103000
DTEND:20210711T203000
SUMMARY:Festes dels carrers Viserta, Manresa, Germans de La Salle i Plaça del Bo-Bo
LOCATION:Carrer Julià Fuchs,36 08691 Monistrol de Montserrat
METHOD:PUBLISH
X-WR-CALNAME:monistrolm@monistroldemontserrat.cat
X-WR-TIMEZONE:Europe/Madrid
DESCRIPTION:
URI:https://www.monistroldemontserrat.cat/sobras/govern/agenda-politica/festes-dels-carrers-viserta-manresa-germans-de-la-salle-i-placa-del-bo-bo.html
CLASS:PUBLIC
END:VEVENT
END:VCALENDAR
