BEGIN:VCALENDAR
VERSION:2.0
CALSCALE:GREGORIAN
PRODID:-//Diputació de Barcelona//DibaCMS//EN
BEGIN:VEVENT
UID:2212
DTSTAMP:20260419T172122
DTSTART:20210705T090000
DTEND:20210705T140000
SUMMARY:Inici del curs intensiu de formació de monitor@ d'activitats de lleure infantil i juvenil
LOCATION:Casal de Joves El RKÓ / Sant Vicenç de Castellet 
METHOD:PUBLISH
X-WR-CALNAME:monistrolm@monistroldemontserrat.cat
X-WR-TIMEZONE:Europe/Madrid
DESCRIPTION:
URI:https://www.monistroldemontserrat.cat//continguts//inici-del-curs-intensiu-de-formacio-de-monitora-dactivitats-de-lleure-infantil-i-juvenil.html
CLASS:PUBLIC
END:VEVENT
END:VCALENDAR
