BEGIN:VCALENDAR
VERSION:2.0
CALSCALE:GREGORIAN
PRODID:-//Diputació de Barcelona//DibaCMS//EN
BEGIN:VEVENT
UID:2243
DTSTAMP:20260419T161333
DTSTART:20210726T193000
DTEND:20210726T210000
SUMMARY:Concert de Festa Major: "Havaneres" 
LOCATION:La Font Gran 08691 Monistrol de Montserrat
METHOD:PUBLISH
X-WR-CALNAME:monistrolm@monistroldemontserrat.cat
X-WR-TIMEZONE:Europe/Madrid
DESCRIPTION:Amb el "Grup d'Havaneres Borinquen".

Cal fer reserva prèvia emplenant el Formulari d'Inscripció.

URI:https://www.monistroldemontserrat.cat/sobras/govern/agenda-politica/concert-de-festa-major-havaneres-amb-el-grup-borinquen.html
CLASS:PUBLIC
END:VEVENT
END:VCALENDAR
