BEGIN:VCALENDAR
VERSION:2.0
CALSCALE:GREGORIAN
PRODID:-//Diputació de Barcelona//DibaCMS//EN
BEGIN:VEVENT
UID:2244
DTSTAMP:20260419T153344
DTSTART:20210726T220000
DTEND:20210726T233000
SUMMARY:Espectacle de cloenda de la Festa Major: "Mostra de Correfoc"
LOCATION:Estació del Cremallera de Montserrat “Monistrol-Vila” 08691 Monistrol de Montserrat
METHOD:PUBLISH
X-WR-CALNAME:monistrolm@monistroldemontserrat.cat
X-WR-TIMEZONE:Europe/Madrid
DESCRIPTION:A càrrec del "Grup de Diables Els Tronats"

Cal fer reserva prèvia emplenant el Formulari d'Inscripció.

URI:https://www.monistroldemontserrat.cat/sobras/govern/agenda-politica/espectacle-de-cloenda-de-la-festa-major-mostra-de-correfoc-a-carrec-del-grup-de-diables-els-tronats.html
CLASS:PUBLIC
END:VEVENT
END:VCALENDAR
