BEGIN:VCALENDAR
VERSION:2.0
CALSCALE:GREGORIAN
PRODID:-//Diputació de Barcelona//DibaCMS//EN
BEGIN:VEVENT
UID:2251
DTSTAMP:20260419T142817
DTSTART:20210723T160000
DTEND:20210723T193000
SUMMARY:Activitat de Festa Major: "Tobogan Aquàtic Gegant"
LOCATION:Carrer Pau Casals. La Batanera 
METHOD:PUBLISH
X-WR-CALNAME:monistrolm@monistroldemontserrat.cat
X-WR-TIMEZONE:Europe/Madrid
DESCRIPTION:Apte per a tots els públics.

Aforament limitat.

Cal fer reserva prèvia emplenant el Formulari d'inscripció.

Cal dur xancletes, banyador i tovallola.

URI:https://www.monistroldemontserrat.cat/sobras/govern/agenda-politica/activitat-de-festa-major-tobogan-aquatic-gegant.html
CLASS:PUBLIC
END:VEVENT
END:VCALENDAR
