BEGIN:VCALENDAR
VERSION:2.0
CALSCALE:GREGORIAN
PRODID:-//Diputació de Barcelona//DibaCMS//EN
BEGIN:VEVENT
UID:2264
DTSTAMP:20260419T140052
DTSTART:20210731T213000
DTEND:20210731T230000
SUMMARY:MUSICtrol21
LOCATION:La Font Gran 08691 Monistrol de Montserrat
METHOD:PUBLISH
X-WR-CALNAME:monistrolm@monistroldemontserrat.cat
X-WR-TIMEZONE:Europe/Madrid
DESCRIPTION:

URI:https://www.monistroldemontserrat.cat//continguts//musictrol21.html
CLASS:PUBLIC
END:VEVENT
END:VCALENDAR
