BEGIN:VCALENDAR
VERSION:2.0
CALSCALE:GREGORIAN
PRODID:-//Diputació de Barcelona//DibaCMS//EN
BEGIN:VEVENT
UID:2268
DTSTAMP:20260419T173416
DTSTART:20210906T090000
DTEND:20210916T140000
SUMMARY:Període d'inscripcions a les Activitats de l'Escola Esportiva Municipal per al curs 2021-2022
LOCATION:C/ Sant Joan, 1 08691 Monistrol de Montserrat
METHOD:PUBLISH
X-WR-CALNAME:monistrolm@monistroldemontserrat.cat
X-WR-TIMEZONE:Europe/Madrid
DESCRIPTION:
URI:https://www.monistroldemontserrat.cat//continguts//periode-dinscripcions-a-les-activitats-de-lescola-esportiva-municipal-per-al-curs-2021-2022.html
CLASS:PUBLIC
END:VEVENT
END:VCALENDAR
