BEGIN:VCALENDAR
VERSION:2.0
CALSCALE:GREGORIAN
PRODID:-//Diputació de Barcelona//DibaCMS//EN
BEGIN:VEVENT
UID:2269
DTSTAMP:20260419T154622
DTSTART:20210906T090000
DTEND:20210916T140000
SUMMARY:Període d'inscripcions a les Activitats per a Adults per al curs 2021-2022
LOCATION:Avinguda de l'Abat Escarré 08691 Monistrol de Montserrat
METHOD:PUBLISH
X-WR-CALNAME:monistrolm@monistroldemontserrat.cat
X-WR-TIMEZONE:Europe/Madrid
DESCRIPTION:
URI:https://www.monistroldemontserrat.cat//continguts//periode-dinscripcions-a-les-activitats-per-a-adults-per-al-curs-2021-2022.html
CLASS:PUBLIC
END:VEVENT
END:VCALENDAR
