BEGIN:VCALENDAR
VERSION:2.0
CALSCALE:GREGORIAN
PRODID:-//Diputació de Barcelona//DibaCMS//EN
BEGIN:VEVENT
UID:2270
DTSTAMP:20260419T161955
DTSTART:20210910T190000
DTEND:20210910T210000
SUMMARY:Jornades Internacionals Folklòriques de Catalunya: actuació del grup de música i dansa "Saihua", d'Equador
LOCATION:La Font Gran 08691 Monistrol de Montserrat
METHOD:PUBLISH
X-WR-CALNAME:monistrolm@monistroldemontserrat.cat
X-WR-TIMEZONE:Europe/Madrid
DESCRIPTION:
URI:https://www.monistroldemontserrat.cat//continguts//jornades-internacionals-folkloriques-de-catalunya-actuacio-del-grup-de-musica-i-dansa-saihua-dequador.html
CLASS:PUBLIC
END:VEVENT
END:VCALENDAR
