BEGIN:VCALENDAR
VERSION:2.0
CALSCALE:GREGORIAN
PRODID:-//Diputació de Barcelona//DibaCMS//EN
BEGIN:VEVENT
UID:2312
DTSTAMP:20260419T152549
DTSTART:20210929T000000
DTEND:20210929T000000
SUMMARY:Festes dels carrers de Dalt
LOCATION:
METHOD:PUBLISH
X-WR-CALNAME:monistrolm@monistroldemontserrat.cat
X-WR-TIMEZONE:Europe/Madrid
DESCRIPTION:
URI:https://www.monistroldemontserrat.cat//continguts//festes-dels-carrers-de-dalt.html
CLASS:PUBLIC
END:VEVENT
END:VCALENDAR
