BEGIN:VCALENDAR
VERSION:2.0
CALSCALE:GREGORIAN
PRODID:-//Diputació de Barcelona//DibaCMS//EN
BEGIN:VEVENT
UID:2313
DTSTAMP:20260419T152905
DTSTART:20211002T110000
DTEND:20211002T210000
SUMMARY:Festes dels carrers de Dalt
LOCATION:Ermita de l'Àngel 
METHOD:PUBLISH
X-WR-CALNAME:monistrolm@monistroldemontserrat.cat
X-WR-TIMEZONE:Europe/Madrid
DESCRIPTION:
URI:https://www.monistroldemontserrat.cat/sobras/govern/agenda-politica/2313-festes-dels-carrers-de-dalt.html
CLASS:PUBLIC
END:VEVENT
END:VCALENDAR
