BEGIN:VCALENDAR
VERSION:2.0
CALSCALE:GREGORIAN
PRODID:-//Diputació de Barcelona//DibaCMS//EN
BEGIN:VEVENT
UID:2314
DTSTAMP:20260419T173808
DTSTART:20211014T190000
DTEND:20211014T210000
SUMMARY:Primera reunió de Romeus 2022
LOCATION:Avinguda de l'Abat Escarré 08691 Monistrol de Montserrat
METHOD:PUBLISH
X-WR-CALNAME:monistrolm@monistroldemontserrat.cat
X-WR-TIMEZONE:Europe/Madrid
DESCRIPTION:Convocatòria dirigida a totes les persones que han participat algun any en la Festa dels Romeus i a totes les que no hi han participat mai i ho volen fer per primera vegada aquest proper any 2022.

URI:https://www.monistroldemontserrat.cat/sobras/govern/agenda-politica/primera-reunio-de-romeus-2022.html
CLASS:PUBLIC
END:VEVENT
END:VCALENDAR
