BEGIN:VCALENDAR
VERSION:2.0
CALSCALE:GREGORIAN
PRODID:-//Diputació de Barcelona//DibaCMS//EN
BEGIN:VEVENT
UID:2353
DTSTAMP:20260419T173612
DTSTART:20211031T103000
DTEND:20211031T113000
SUMMARY:Animació itinerant amb Jordi Callau i companyia
LOCATION:La Font Gran 08691 Monistrol de Montserrat
METHOD:PUBLISH
X-WR-CALNAME:monistrolm@monistroldemontserrat.cat
X-WR-TIMEZONE:Europe/Madrid
DESCRIPTION: 

 

URI:https://www.monistroldemontserrat.cat//continguts//2353-animacio-itinerant-amb-jordi-callau-i-companyia.html
CLASS:PUBLIC
END:VEVENT
END:VCALENDAR
