BEGIN:VCALENDAR
VERSION:2.0
CALSCALE:GREGORIAN
PRODID:-//Diputació de Barcelona//DibaCMS//EN
BEGIN:VEVENT
UID:2359
DTSTAMP:20260419T173715
DTSTART:20211031T110000
DTEND:20211031T130000
SUMMARY:Exposició de maquetes en moviment “Els antics transports de Montserrat” 
LOCATION:Estació del Cremallera de Montserrat “Monistrol-Vila”, local D 08691 Monistrol de Montserrat
METHOD:PUBLISH
X-WR-CALNAME:monistrolm@monistroldemontserrat.cat
X-WR-TIMEZONE:Europe/Madrid
DESCRIPTION:Exposició de maquetes en moviment “Els antics transports de Montserrat”

Al local dels Amics del Cremallera de Montserrat

Lloc: Estació de Monistrol-Vila, davant de l’Estació-Museu del Cremallera

URI:https://www.monistroldemontserrat.cat//continguts//2359-exposicio-de-maquetes-en-moviment-els-antics-transports-de-montserrat-.html
CLASS:PUBLIC
END:VEVENT
END:VCALENDAR
