BEGIN:VCALENDAR
VERSION:2.0
CALSCALE:GREGORIAN
PRODID:-//Diputació de Barcelona//DibaCMS//EN
BEGIN:VEVENT
UID:2382
DTSTAMP:20260419T154745
DTSTART:20211124T103000
DTEND:20211124T180000
SUMMARY:Excursió al Museu de les Mines de Cercs
LOCATION:Carretera d’Abrera a Manresa s/n 08691 Monistrol de Montserrat
METHOD:PUBLISH
X-WR-CALNAME:monistrolm@monistroldemontserrat.cat
X-WR-TIMEZONE:Europe/Madrid
DESCRIPTION:Inscripcions:


	Amb missatge al telèfon 666 426 002
	Presencialment a la Llar, del 15 al 18 de novembre, a partir de les 16:00h.


URI:https://www.monistroldemontserrat.cat/sobras/govern/agenda-politica/excursio-al-museu-de-les-mines-de-cercs.html
CLASS:PUBLIC
END:VEVENT
END:VCALENDAR
