BEGIN:VCALENDAR
VERSION:2.0
CALSCALE:GREGORIAN
PRODID:-//Diputació de Barcelona//DibaCMS//EN
BEGIN:VEVENT
UID:2383
DTSTAMP:20260419T154713
DTSTART:20211201T163000
DTEND:20211201T173000
SUMMARY:Taller de Patchwork "El Ninot de Neu"
LOCATION:Carretera d’Abrera a Manresa s/n 08691 Monistrol de Montserrat
METHOD:PUBLISH
X-WR-CALNAME:monistrolm@monistroldemontserrat.cat
X-WR-TIMEZONE:Europe/Madrid
DESCRIPTION:Inscripcions:


	Amb missatge al telèfon 666 426 002
	Presencialment a la Llar, del 15 al 18 de novembre, a partir de les 16:00h.


URI:https://www.monistroldemontserrat.cat/sobras/govern/agenda-politica/taller-de-patchwork-el-ninot-de-neu.html
CLASS:PUBLIC
END:VEVENT
END:VCALENDAR
