BEGIN:VCALENDAR
VERSION:2.0
CALSCALE:GREGORIAN
PRODID:-//Diputació de Barcelona//DibaCMS//EN
BEGIN:VEVENT
UID:2384
DTSTAMP:20260419T173636
DTSTART:20211210T173000
DTEND:20211210T183000
SUMMARY:Rumbesia
LOCATION:Carretera d’Abrera a Manresa s/n 08691 Monistrol de Montserrat
METHOD:PUBLISH
X-WR-CALNAME:monistrolm@monistroldemontserrat.cat
X-WR-TIMEZONE:Europe/Madrid
DESCRIPTION:Rumba i poesia.

Inscripcions:


	Amb missatge al telèfon 666 426 002
	Presencialment a la Llar, del 15 al 18 de novembre, a partir de les 16:00h.


URI:https://www.monistroldemontserrat.cat//continguts//rumbesia.html
CLASS:PUBLIC
END:VEVENT
END:VCALENDAR
