BEGIN:VCALENDAR
VERSION:2.0
CALSCALE:GREGORIAN
PRODID:-//Diputació de Barcelona//DibaCMS//EN
BEGIN:VEVENT
UID:2390
DTSTAMP:20260419T173654
DTSTART:20211202T090000
DTEND:20211202T140000
SUMMARY:4ª Fira de l'Ocupació del Bages
LOCATION:
METHOD:PUBLISH
X-WR-CALNAME:monistrolm@monistroldemontserrat.cat
X-WR-TIMEZONE:Europe/Madrid
DESCRIPTION:
URI:https://www.monistroldemontserrat.cat//continguts//2390-4a-fira-de-locupacio-del-bages.html
CLASS:PUBLIC
END:VEVENT
END:VCALENDAR
