BEGIN:VCALENDAR
VERSION:2.0
CALSCALE:GREGORIAN
PRODID:-//Diputació de Barcelona//DibaCMS//EN
BEGIN:VEVENT
UID:2398
DTSTAMP:20260419T171238
DTSTART:20211125T173000
DTEND:20211125T193000
SUMMARY:Espectacle de circ
LOCATION:
METHOD:PUBLISH
X-WR-CALNAME:monistrolm@monistroldemontserrat.cat
X-WR-TIMEZONE:Europe/Madrid
DESCRIPTION:
URI:https://www.monistroldemontserrat.cat//continguts//espectacle-de-circ.html
CLASS:PUBLIC
END:VEVENT
END:VCALENDAR
