BEGIN:VCALENDAR
VERSION:2.0
CALSCALE:GREGORIAN
PRODID:-//Diputació de Barcelona//DibaCMS//EN
BEGIN:VEVENT
UID:2401
DTSTAMP:20260419T172214
DTSTART:20211128T180000
DTEND:20211128T200000
SUMMARY:Teatre: Mujer Rota de Simone de Beauvoir
LOCATION:Avinguda de l'Abat Escarré 08691 Monistrol de Montserrat
METHOD:PUBLISH
X-WR-CALNAME:monistrolm@monistroldemontserrat.cat
X-WR-TIMEZONE:Europe/Madrid
DESCRIPTION:
URI:https://www.monistroldemontserrat.cat//continguts//teatre-mujer-rota.html
CLASS:PUBLIC
END:VEVENT
END:VCALENDAR
