BEGIN:VCALENDAR
VERSION:2.0
CALSCALE:GREGORIAN
PRODID:-//Diputació de Barcelona//DibaCMS//EN
BEGIN:VEVENT
UID:2452
DTSTAMP:20260419T193128
DTSTART:20220115T100000
DTEND:20220115T110000
SUMMARY:Esbart Monistrol Dansaire: vine a ballar!
LOCATION:C/ Sant Joan, 1 08691 Monistrol de Montserrat
METHOD:PUBLISH
X-WR-CALNAME:monistrolm@monistroldemontserrat.cat
X-WR-TIMEZONE:Europe/Madrid
DESCRIPTION:Jornada de Portes Obertes per a que tots els infants, nois, noies i joves entre 4 i 16 anys vinguin a conèixer l'Esbart Monistrol Dansaire.

Grup Infantil: de 4 a 9 anys

Grup Juvenil: de 10 a 16 anys

Assaig: els dissabtes de 10:00h.a 11:00h, al Centre Cultural de Can Gibert

Telèfons de contacte: 672 220 863 (Jordi) i 636 051 201 (Anna)

URI:https://www.monistroldemontserrat.cat/sobras/govern/agenda-politica/esbart-monistrol-dansaire-vine-a-ballar.html
CLASS:PUBLIC
END:VEVENT
END:VCALENDAR
