BEGIN:VCALENDAR
VERSION:2.0
CALSCALE:GREGORIAN
PRODID:-//Diputació de Barcelona//DibaCMS//EN
BEGIN:VEVENT
UID:2468
DTSTAMP:20260420T024446
DTSTART:20220909T000000
DTEND:20220911T000000
SUMMARY:Actes de la Diada 
LOCATION:
METHOD:PUBLISH
X-WR-CALNAME:monistrolm@monistroldemontserrat.cat
X-WR-TIMEZONE:Europe/Madrid
DESCRIPTION:
URI:https://www.monistroldemontserrat.cat//continguts//actes-de-la-diada-.html
CLASS:PUBLIC
END:VEVENT
END:VCALENDAR
