BEGIN:VCALENDAR
VERSION:2.0
CALSCALE:GREGORIAN
PRODID:-//Diputació de Barcelona//DibaCMS//EN
BEGIN:VEVENT
UID:2473
DTSTAMP:20260420T042114
DTSTART:20221217T000000
DTEND:20221218T000000
SUMMARY:Mercat de Nadal
LOCATION:
METHOD:PUBLISH
X-WR-CALNAME:monistrolm@monistroldemontserrat.cat
X-WR-TIMEZONE:Europe/Madrid
DESCRIPTION:
URI:https://www.monistroldemontserrat.cat/sobras/govern/agenda-politica/2473-mercat-de-nadal.html
CLASS:PUBLIC
END:VEVENT
END:VCALENDAR
