BEGIN:VCALENDAR
VERSION:2.0
CALSCALE:GREGORIAN
PRODID:-//Diputació de Barcelona//DibaCMS//EN
BEGIN:VEVENT
UID:2474
DTSTAMP:20260420T073313
DTSTART:20221231T000000
DTEND:20221231T000000
SUMMARY:Festa de Cap d'Any
LOCATION:Avinguda de l'Abat Escarré 08691 Monistrol de Montserrat
METHOD:PUBLISH
X-WR-CALNAME:monistrolm@monistroldemontserrat.cat
X-WR-TIMEZONE:Europe/Madrid
DESCRIPTION:
URI:https://www.monistroldemontserrat.cat//continguts//festa-de-cap-dany.html
CLASS:PUBLIC
END:VEVENT
END:VCALENDAR
