BEGIN:VCALENDAR
VERSION:2.0
CALSCALE:GREGORIAN
PRODID:-//Diputació de Barcelona//DibaCMS//EN
BEGIN:VEVENT
UID:2475
DTSTAMP:20260419T210721
DTSTART:20220403T083000
DTEND:20220403T190000
SUMMARY:XXXVIII Trobada Grup Cavall Bernat
LOCATION:Avinguda de l'Abat Escarré 08691 Monistrol de Montserrat
METHOD:PUBLISH
X-WR-CALNAME:monistrolm@monistroldemontserrat.cat
X-WR-TIMEZONE:Europe/Madrid
DESCRIPTION:
URI:https://www.monistroldemontserrat.cat/sobras/govern/agenda-politica/xxxviii-trobada-grup-cavall-bernat.html
CLASS:PUBLIC
END:VEVENT
END:VCALENDAR
