BEGIN:VCALENDAR
VERSION:2.0
CALSCALE:GREGORIAN
PRODID:-//Diputació de Barcelona//DibaCMS//EN
BEGIN:VEVENT
UID:2491
DTSTAMP:20260419T210704
DTSTART:20220309T090000
DTEND:20220309T150000
SUMMARY:Actes del Dia de la Dona a les escoles: "Dones valentes" un espectacle sobre dones contemporànies que han deixat empremta
LOCATION:C/ Escoles 23-27 08691 Monistrol de Montserrat
METHOD:PUBLISH
X-WR-CALNAME:monistrolm@monistroldemontserrat.cat
X-WR-TIMEZONE:Europe/Madrid
DESCRIPTION:
URI:https://www.monistroldemontserrat.cat//continguts//actes-del-dia-de-la-dona-a-les-escoles-dones-valentes-un-espectacle-sobre-dones-contemporanies-que-han-deixat-empremta.html
CLASS:PUBLIC
END:VEVENT
END:VCALENDAR
