BEGIN:VCALENDAR
VERSION:2.0
CALSCALE:GREGORIAN
PRODID:-//Diputació de Barcelona//DibaCMS//EN
BEGIN:VEVENT
UID:2519
DTSTAMP:20260419T211014
DTSTART:20220305T100000
DTEND:20220305T235900
SUMMARY:A Instagram! Concurs de fotografies de disfresses del Carnaval 2022 a Monistrol de Montserrat 
LOCATION:
METHOD:PUBLISH
X-WR-CALNAME:monistrolm@monistroldemontserrat.cat
X-WR-TIMEZONE:Europe/Madrid
DESCRIPTION:
URI:https://www.monistroldemontserrat.cat/sobras/govern/agenda-politica/a-instagram-concurs-de-fotografies-de-disfresses-del-carnaval-2022-a-monistrol-de-montserrat-.html
CLASS:PUBLIC
END:VEVENT
END:VCALENDAR
