BEGIN:VCALENDAR
VERSION:2.0
CALSCALE:GREGORIAN
PRODID:-//Diputació de Barcelona//DibaCMS//EN
BEGIN:VEVENT
UID:2520
DTSTAMP:20260419T142708
DTSTART:20220320T100000
DTEND:20220320T133000
SUMMARY:41a. Roda d'esbarts "Catalònia" Infantils i Juvenils 
LOCATION:La Font Gran 08691 Monistrol de Montserrat
METHOD:PUBLISH
X-WR-CALNAME:monistrolm@monistroldemontserrat.cat
X-WR-TIMEZONE:Europe/Madrid
DESCRIPTION:
URI:https://www.monistroldemontserrat.cat//continguts//41a-roda-desbarts-catalonia-infantils-i-juvenils-.html
CLASS:PUBLIC
END:VEVENT
END:VCALENDAR
