BEGIN:VCALENDAR
VERSION:2.0
CALSCALE:GREGORIAN
PRODID:-//Diputació de Barcelona//DibaCMS//EN
BEGIN:VEVENT
UID:2575
DTSTAMP:20260419T210557
DTSTART:20220402T083000
DTEND:20220402T140000
SUMMARY:Acció de Mountain Wilderness a Montserrat: Regió de Sant Salvador: Sant Benet - Pla de la Trinitat- Els Degotalls
LOCATION:
METHOD:PUBLISH
X-WR-CALNAME:monistrolm@monistroldemontserrat.cat
X-WR-TIMEZONE:Europe/Madrid
DESCRIPTION:
URI:https://www.monistroldemontserrat.cat/sobras/govern/agenda-politica/accio-de-mountain-wilderness-a-montserrat-regio-de-sant-salvador-sant-benet-pla-de-la-trinitat-els-degotalls.html
CLASS:PUBLIC
END:VEVENT
END:VCALENDAR
