BEGIN:VCALENDAR
VERSION:2.0
CALSCALE:GREGORIAN
PRODID:-//Diputació de Barcelona//DibaCMS//EN
BEGIN:VEVENT
UID:2598
DTSTAMP:20260420T005200
DTSTART:20220504T173000
DTEND:20220504T183000
SUMMARY:Enxarxats. Teatre interactiu a càrrec de TeatrAcció
LOCATION:Espai Jove Joan Amades - Oficina Jove del Bages. Carrer de Sant Blai, 14. Manresa 
METHOD:PUBLISH
X-WR-CALNAME:monistrolm@monistroldemontserrat.cat
X-WR-TIMEZONE:Europe/Madrid
DESCRIPTION:
URI:https://www.monistroldemontserrat.cat//continguts//enxarxats-teatre-interactiu-a-carrec-de-teatraccio.html
CLASS:PUBLIC
END:VEVENT
END:VCALENDAR
