BEGIN:VCALENDAR
VERSION:2.0
CALSCALE:GREGORIAN
PRODID:-//Diputació de Barcelona//DibaCMS//EN
BEGIN:VEVENT
UID:2609
DTSTAMP:20260420T040207
DTSTART:20220909T190000
DTEND:20220909T203000
SUMMARY:Actuació del grup "Tarumbeta Africa Cultural Group", de Kènia (50a edició de les Jornades Internacionals Folklòriques (JIF) de Catalunya)
LOCATION:La Font Gran 08691 Monistrol de Montserrat
METHOD:PUBLISH
X-WR-CALNAME:monistrolm@monistroldemontserrat.cat
X-WR-TIMEZONE:Europe/Madrid
DESCRIPTION:
URI:https://www.monistroldemontserrat.cat/sobras/govern/agenda-politica/actuacio-del-grup-tarumbeta-africa-cultural-group-de-kenia-50a-edicio-de-les-jornades-internacionals-folkloriques-jif-de-catalunya.html
CLASS:PUBLIC
END:VEVENT
END:VCALENDAR
