BEGIN:VCALENDAR
VERSION:2.0
CALSCALE:GREGORIAN
PRODID:-//Diputació de Barcelona//DibaCMS//EN
BEGIN:VEVENT
UID:2611
DTSTAMP:20260420T005134
DTSTART:20220508T100000
DTEND:20220508T130000
SUMMARY:Jornada de portes obertes Escola Bressol
LOCATION:
METHOD:PUBLISH
X-WR-CALNAME:monistrolm@monistroldemontserrat.cat
X-WR-TIMEZONE:Europe/Madrid
DESCRIPTION:El diumenge dia 8 de maig, de 10 a 13h, es realitza una Jornada de Portes Obertes a l'Escola Bressol El Cuc Verd per a tots els pares i mares que vulguin veure les instal·lacions, conèixer el funcionament i parlar amb les professores abans de formalitzar la preinscripció.

URI:https://www.monistroldemontserrat.cat/sobras/govern/agenda-politica/jornada-de-portes-obertes-escola-bressol.html
CLASS:PUBLIC
END:VEVENT
END:VCALENDAR
