BEGIN:VCALENDAR
VERSION:2.0
CALSCALE:GREGORIAN
PRODID:-//Diputació de Barcelona//DibaCMS//EN
BEGIN:VEVENT
UID:2616
DTSTAMP:20260419T225615
DTSTART:20220609T090000
DTEND:20220609T130000
SUMMARY:Venda dels productes de les cooperatives de l’Escola Sant Pere i Fedac Monistrol, al mercat setmanal
LOCATION:La Font Gran 08691 Monistrol de Montserrat
METHOD:PUBLISH
X-WR-CALNAME:monistrolm@monistroldemontserrat.cat
X-WR-TIMEZONE:Europe/Madrid
DESCRIPTION:
URI:https://www.monistroldemontserrat.cat/sobras/govern/agenda-politica/venda-dels-productes-de-les-cooperatives-de-lescola-sant-pere-i-fedac-monistrol-al-mercat-setmanal.html
CLASS:PUBLIC
END:VEVENT
END:VCALENDAR
