BEGIN:VCALENDAR
VERSION:2.0
CALSCALE:GREGORIAN
PRODID:-//Diputació de Barcelona//DibaCMS//EN
BEGIN:VEVENT
UID:2649
DTSTAMP:20260420T055242
DTSTART:20221007T000000
DTEND:20221009T000000
SUMMARY:Jornades Europees de Patrimoni 2022
LOCATION:
METHOD:PUBLISH
X-WR-CALNAME:monistrolm@monistroldemontserrat.cat
X-WR-TIMEZONE:Europe/Madrid
DESCRIPTION:
URI:https://www.monistroldemontserrat.cat/sobras/govern/agenda-politica/jornades-europees-de-patrimoni-2022.html
CLASS:PUBLIC
END:VEVENT
END:VCALENDAR
