BEGIN:VCALENDAR
VERSION:2.0
CALSCALE:GREGORIAN
PRODID:-//Diputació de Barcelona//DibaCMS//EN
BEGIN:VEVENT
UID:2653
DTSTAMP:20260420T005341
DTSTART:20220716T170000
DTEND:20220716T230000
SUMMARY:Fideuà Cap de Bou
LOCATION:Cap de Bou 
METHOD:PUBLISH
X-WR-CALNAME:monistrolm@monistroldemontserrat.cat
X-WR-TIMEZONE:Europe/Madrid
DESCRIPTION:
URI:https://www.monistroldemontserrat.cat/sobras/govern/agenda-politica/fideua-cap-de-bou.html
CLASS:PUBLIC
END:VEVENT
END:VCALENDAR
