BEGIN:VCALENDAR
VERSION:2.0
CALSCALE:GREGORIAN
PRODID:-//Diputació de Barcelona//DibaCMS//EN
BEGIN:VEVENT
UID:2666
DTSTAMP:20260419T145540
DTSTART:20220724T193000
DTEND:20220724T203000
SUMMARY:Festa Major 2022: Espectacle de circ amb el Professor Karoli, L'Home Roda
LOCATION:Jardins de Cal Pla. 
METHOD:PUBLISH
X-WR-CALNAME:monistrolm@monistroldemontserrat.cat
X-WR-TIMEZONE:Europe/Madrid
DESCRIPTION:
URI:https://www.monistroldemontserrat.cat/sobras/govern/agenda-politica/festa-major-2022-espectacle-de-circ-amb-el-professor-karoli-lhome-roda.html
CLASS:PUBLIC
END:VEVENT
END:VCALENDAR
