BEGIN:VCALENDAR
VERSION:2.0
CALSCALE:GREGORIAN
PRODID:-//Diputació de Barcelona//DibaCMS//EN
BEGIN:VEVENT
UID:2688
DTSTAMP:20260419T225515
DTSTART:20220610T091500
DTEND:20220610T111500
SUMMARY:Acte de cloenda del Projecte CUEME del curs 2021-2022 amb les escoles Sant Pere i Fedac Monistrol
LOCATION:C/ de les Escoles 16 08691 Monistrol de Montserrat
METHOD:PUBLISH
X-WR-CALNAME:monistrolm@monistroldemontserrat.cat
X-WR-TIMEZONE:Europe/Madrid
DESCRIPTION:
URI:https://www.monistroldemontserrat.cat/sobras/govern/agenda-politica/acte-de-cloenda-del-projecte-cueme-del-curs-2021-2022-amb-les-escoles-sant-pere-i-fedac-monistrol.html
CLASS:PUBLIC
END:VEVENT
END:VCALENDAR
