BEGIN:VCALENDAR
VERSION:2.0
CALSCALE:GREGORIAN
PRODID:-//Diputació de Barcelona//DibaCMS//EN
BEGIN:VEVENT
UID:2716
DTSTAMP:20260420T005320
DTSTART:20220707T180000
DTEND:20220707T193000
SUMMARY:Taller d'ús de les tecnologies en la formació i cerca de recursos
LOCATION:Avinguda de l'Abat Escarré 08691 Monistrol de Montserrat
METHOD:PUBLISH
X-WR-CALNAME:monistrolm@monistroldemontserrat.cat
X-WR-TIMEZONE:Europe/Madrid
DESCRIPTION:
URI:https://www.monistroldemontserrat.cat/sobras/govern/agenda-politica/2716-taller-dus-de-les-tecnologies-en-la-formacio-i-cerca-de-recursos.html
CLASS:PUBLIC
END:VEVENT
END:VCALENDAR
