BEGIN:VCALENDAR
VERSION:2.0
CALSCALE:GREGORIAN
PRODID:-//Diputació de Barcelona//DibaCMS//EN
BEGIN:VEVENT
UID:2721
DTSTAMP:20260420T010452
DTSTART:20220715T180000
DTEND:20220715T200000
SUMMARY:Trobada de l'Espai Iris, espai per a joves LGTBI+ del Bages
LOCATION:Oficina Jove del Bages (Carrer Sant Blai, 14 de Manresa) 
METHOD:PUBLISH
X-WR-CALNAME:monistrolm@monistroldemontserrat.cat
X-WR-TIMEZONE:Europe/Madrid
DESCRIPTION:
URI:https://www.monistroldemontserrat.cat/sobras/govern/agenda-politica/trobada-de-lespai-iris-espai-per-a-joves-lgtbi-del-bages.html
CLASS:PUBLIC
END:VEVENT
END:VCALENDAR
